BEGIN:VCALENDAR
VERSION:2.0
PRODID:-//Katherine is Funny - ECPv6.15.1.1//NONSGML v1.0//EN
CALSCALE:GREGORIAN
METHOD:PUBLISH
X-ORIGINAL-URL:https://katherineisfunny.com
X-WR-CALDESC:Events for Katherine is Funny
REFRESH-INTERVAL;VALUE=DURATION:PT1H
X-Robots-Tag:noindex
X-PUBLISHED-TTL:PT1H
BEGIN:VTIMEZONE
TZID:America/New_York
BEGIN:DAYLIGHT
TZOFFSETFROM:-0500
TZOFFSETTO:-0400
TZNAME:EDT
DTSTART:20220313T070000
END:DAYLIGHT
BEGIN:STANDARD
TZOFFSETFROM:-0400
TZOFFSETTO:-0500
TZNAME:EST
DTSTART:20221106T060000
END:STANDARD
END:VTIMEZONE
BEGIN:VEVENT
DTSTART;TZID=America/New_York:20221026T200000
DTEND;TZID=America/New_York:20221026T210000
DTSTAMP:20260420T063320
CREATED:20221019T171706Z
LAST-MODIFIED:20221019T171706Z
UID:1100-1666814400-1666818000@katherineisfunny.com
SUMMARY:LIT's A Comedy of Horrors
DESCRIPTION:The Laugh Index Theater presents their Comedy of Horrors Variety Show directed by and featuring Katherine as well as her sketch team\, Wilburn!
URL:https://katherineisfunny.com/event/lits-a-comedy-of-horrors/
LOCATION:YouTube
ATTACH;FMTTYPE=image/png:https://katherineisfunny.com/wp-content/uploads/2022/10/LIT_Comedy_Logo-01-e153385135858939.png
END:VEVENT
BEGIN:VEVENT
DTSTART;TZID=America/New_York:20221017T193000
DTEND;TZID=America/New_York:20221017T203000
DTSTAMP:20260420T063320
CREATED:20220916T041419Z
LAST-MODIFIED:20221017T145852Z
UID:792-1666035000-1666038600@katherineisfunny.com
SUMMARY:Social Commentary / Wilburn's Half Hour Laugh
DESCRIPTION:Katherine has failed her New Year’s Resolution of being less judgmental for three years in a row\, but now you benefit with a half hour of sketch comedy holding up a mirror to the human race’s quirks. \nThis show is in an hour-long slot paired with Katherine’s sketch team\, Wilburn\, performing their Half-Hour Laugh Live! \n  \nYou can join us live Under St. Marks or streaming virtually.
URL:https://katherineisfunny.com/event/social-commentary-wilburns-half-hour-laugh/
LOCATION:Under St. Marks\, 94 St Marks Place\, New York\, NY\, 10009\, United States
ATTACH;FMTTYPE=image/jpeg:https://katherineisfunny.com/wp-content/uploads/2022/09/Oct17-1-scaled.jpg
END:VEVENT
BEGIN:VEVENT
DTSTART;TZID=America/New_York:20221005T210000
DTEND;TZID=America/New_York:20221005T220000
DTSTAMP:20260420T063320
CREATED:20220413T000740Z
LAST-MODIFIED:20221012T212638Z
UID:707-1665003600-1665007200@katherineisfunny.com
SUMMARY:Howdy Neighbor Sketch Show
DESCRIPTION:Katherine’s BoogieManja sketch team\, Howdy Neighbor\, performs a brand new show\, streaming live on Twitch!
URL:https://katherineisfunny.com/event/howdy-neighbor-sketch-show-5/
LOCATION:Twitch
ATTACH;FMTTYPE=image/png:https://katherineisfunny.com/wp-content/uploads/2022/04/Untitled-design.png
END:VEVENT
BEGIN:VEVENT
DTSTART;TZID=America/New_York:20220921T140000
DTEND;TZID=America/New_York:20220921T150000
DTSTAMP:20260420T063320
CREATED:20220818T210011Z
LAST-MODIFIED:20220818T210011Z
UID:778-1663768800-1663772400@katherineisfunny.com
SUMMARY:The LIT Awards: Best of Season 12 Sketch Night
DESCRIPTION:The Laugh Index Players close out their season with a live sketch show in Brooklyn! Directed by Katherine Coleman.
URL:https://katherineisfunny.com/event/the-lit-awards-best-of-season-12-sketch-night/
LOCATION:Young Ethel’s\, 506 5th Ave\, Brooklyn\, NY\, 11215\, United States
ATTACH;FMTTYPE=image/png:https://katherineisfunny.com/wp-content/uploads/2022/08/LiveShow1.png
END:VEVENT
BEGIN:VEVENT
DTSTART;TZID=America/New_York:20220908T160000
DTEND;TZID=America/New_York:20220908T163000
DTSTAMP:20260420T063320
CREATED:20220903T225922Z
LAST-MODIFIED:20220906T040639Z
UID:783-1662652800-1662654600@katherineisfunny.com
SUMMARY:Wilburn's Half-Hour Laugh
DESCRIPTION:Katherine’s indie team\, Wilburn\, streams a brand new sketch show live on YouTube!
URL:https://katherineisfunny.com/event/wilburns-half-hour-laugh/
LOCATION:YouTube
ATTACH;FMTTYPE=image/png:https://katherineisfunny.com/wp-content/uploads/2022/09/9.8thumb.png
END:VEVENT
BEGIN:VEVENT
DTSTART;TZID=America/New_York:20220817T170000
DTEND;TZID=America/New_York:20220817T180000
DTSTAMP:20260420T063320
CREATED:20220413T000718Z
LAST-MODIFIED:20220413T000718Z
UID:705-1660755600-1660759200@katherineisfunny.com
SUMMARY:Howdy Neighbor Sketch Show
DESCRIPTION:Katherine’s BoogieManja sketch team\, Howdy Neighbor\, performs a brand new show\, streaming live on Twitch!
URL:https://katherineisfunny.com/event/howdy-neighbor-sketch-show-4/
LOCATION:Twitch
ATTACH;FMTTYPE=image/png:https://katherineisfunny.com/wp-content/uploads/2022/04/Untitled-design.png
END:VEVENT
BEGIN:VEVENT
DTSTART;TZID=America/New_York:20220713T150000
DTEND;TZID=America/New_York:20220713T160000
DTSTAMP:20260420T063320
CREATED:20220413T000600Z
LAST-MODIFIED:20220413T000600Z
UID:701-1657724400-1657728000@katherineisfunny.com
SUMMARY:Hold the Tomato: A Variety Show
DESCRIPTION:The Laugh Index Theater presents Hold the Tomato: a cheesy variety show hosted by Katherine Coleman
URL:https://katherineisfunny.com/event/hold-the-tomato-a-variety-show/
LOCATION:YouTube
ATTACH;FMTTYPE=image/jpeg:https://katherineisfunny.com/wp-content/uploads/2022/04/f9379c_6f26c59a8d1a4922a129fcd9553e58d6_mv2.jpeg
END:VEVENT
BEGIN:VEVENT
DTSTART;TZID=America/New_York:20220612T140000
DTEND;TZID=America/New_York:20220612T160000
DTSTAMP:20260420T063320
CREATED:20220611T032236Z
LAST-MODIFIED:20220611T032236Z
UID:766-1655042400-1655049600@katherineisfunny.com
SUMMARY:LIT Fest Show
DESCRIPTION:LITFest will feature standup comedy\, character shorts\, a musical guest\, and the best of our House Sketch Team! All hosted by Katherine Coleman! Get tickets now!
URL:https://katherineisfunny.com/event/lit-fest-show/
LOCATION:YouTube
ATTACH;FMTTYPE=image/webp:https://katherineisfunny.com/wp-content/uploads/2022/06/LIT-Fest-2018.webp
END:VEVENT
BEGIN:VEVENT
DTSTART;TZID=America/New_York:20220601T170000
DTEND;TZID=America/New_York:20220601T180000
DTSTAMP:20260420T063320
CREATED:20220412T235725Z
LAST-MODIFIED:20220412T235725Z
UID:697-1654102800-1654106400@katherineisfunny.com
SUMMARY:Howdy Neighbor Sketch Show
DESCRIPTION:Katherine’s BoogieManja sketch team\, Howdy Neighbor\, performs a brand new show\, streaming live on Twitch!
URL:https://katherineisfunny.com/event/howdy-neighbor-sketch-show-2/
LOCATION:Twitch
ATTACH;FMTTYPE=image/png:https://katherineisfunny.com/wp-content/uploads/2022/04/Untitled-design.png
END:VEVENT
BEGIN:VEVENT
DTSTART;TZID=America/New_York:20220525T160000
DTEND;TZID=America/New_York:20220525T170000
DTSTAMP:20260420T063320
CREATED:20220412T235500Z
LAST-MODIFIED:20220412T235500Z
UID:693-1653494400-1653498000@katherineisfunny.com
SUMMARY:LIT's May Sketch Night
DESCRIPTION:The Laugh Index Players perform a brand new sketch show\, directed by Katherine\, streaming live on YouTube. Click here to register for a free ticket!
URL:https://katherineisfunny.com/event/lits-may-sketch-night/
LOCATION:YouTube
ATTACH;FMTTYPE=image/png:https://katherineisfunny.com/wp-content/uploads/2022/04/Copy-of-SKETCH-NIGHT_-newsletter-169-1.png
END:VEVENT
BEGIN:VEVENT
DTSTART;TZID=America/New_York:20220427T170000
DTEND;TZID=America/New_York:20220427T180000
DTSTAMP:20260420T063320
CREATED:20220412T234633Z
LAST-MODIFIED:20220412T235244Z
UID:679-1651078800-1651082400@katherineisfunny.com
SUMMARY:Howdy Neighbor Sketch Show
DESCRIPTION:Katherine’s new BoogieManja sketch team\, Howdy Neighbor\, performs their first show\, streaming live on Twitch!
URL:https://katherineisfunny.com/event/howdy-neighbor-sketch-show/
LOCATION:Twitch
ATTACH;FMTTYPE=image/png:https://katherineisfunny.com/wp-content/uploads/2022/04/Untitled-design.png
END:VEVENT
BEGIN:VEVENT
DTSTART;TZID=America/New_York:20220427T160000
DTEND;TZID=America/New_York:20220427T170000
DTSTAMP:20260420T063320
CREATED:20220412T233855Z
LAST-MODIFIED:20220412T234031Z
UID:668-1651075200-1651078800@katherineisfunny.com
SUMMARY:LIT's April Sketch Night
DESCRIPTION:The Laugh Index Players perform a brand new sketch show\, directed by Katherine\, streaming live on YouTube. Click here to register for a free ticket!
URL:https://katherineisfunny.com/event/lits-april-sketch-night/
LOCATION:YouTube
ATTACH;FMTTYPE=image/png:https://katherineisfunny.com/wp-content/uploads/2022/04/Copy-of-SKETCH-NIGHT_-newsletter-169.png
END:VEVENT
BEGIN:VEVENT
DTSTART;TZID=America/New_York:20220414T160000
DTEND;TZID=America/New_York:20220414T170000
DTSTAMP:20260420T063320
CREATED:20220412T232908Z
LAST-MODIFIED:20220413T224900Z
UID:656-1649952000-1649955600@katherineisfunny.com
SUMMARY:JINX: A musical comedy and character showcase
DESCRIPTION:Katherine will be performing at JINX\, a show presented by Humor Darling on Thursday at 8 PM at Young Ethel’s in Park Slope\, Brooklyn.
URL:https://katherineisfunny.com/event/jinx-a-musical-comedy-and-character-showcase/
LOCATION:Young Ethel’s\, 506 5th Ave\, Brooklyn\, NY\, 11215\, United States
ATTACH;FMTTYPE=image/jpeg:https://katherineisfunny.com/wp-content/uploads/2022/04/IMG_0949.jpg
END:VEVENT
END:VCALENDAR