BEGIN:VCALENDAR
VERSION:2.0
PRODID:-//Katherine is Funny - ECPv6.15.1.1//NONSGML v1.0//EN
CALSCALE:GREGORIAN
METHOD:PUBLISH
X-WR-CALNAME:Katherine is Funny
X-ORIGINAL-URL:https://katherineisfunny.com
X-WR-CALDESC:Events for Katherine is Funny
REFRESH-INTERVAL;VALUE=DURATION:PT1H
X-Robots-Tag:noindex
X-PUBLISHED-TTL:PT1H
BEGIN:VTIMEZONE
TZID:America/New_York
BEGIN:DAYLIGHT
TZOFFSETFROM:-0500
TZOFFSETTO:-0400
TZNAME:EDT
DTSTART:20220313T070000
END:DAYLIGHT
BEGIN:STANDARD
TZOFFSETFROM:-0400
TZOFFSETTO:-0500
TZNAME:EST
DTSTART:20221106T060000
END:STANDARD
BEGIN:DAYLIGHT
TZOFFSETFROM:-0500
TZOFFSETTO:-0400
TZNAME:EDT
DTSTART:20230312T070000
END:DAYLIGHT
BEGIN:STANDARD
TZOFFSETFROM:-0400
TZOFFSETTO:-0500
TZNAME:EST
DTSTART:20231105T060000
END:STANDARD
BEGIN:DAYLIGHT
TZOFFSETFROM:-0500
TZOFFSETTO:-0400
TZNAME:EDT
DTSTART:20240310T070000
END:DAYLIGHT
BEGIN:STANDARD
TZOFFSETFROM:-0400
TZOFFSETTO:-0500
TZNAME:EST
DTSTART:20241103T060000
END:STANDARD
END:VTIMEZONE
BEGIN:VEVENT
DTSTART;TZID=America/New_York:20240209T130000
DTEND;TZID=America/New_York:20240209T150000
DTSTAMP:20260420T034246
CREATED:20240117T193711Z
LAST-MODIFIED:20240117T193711Z
UID:1366-1707483600-1707490800@katherineisfunny.com
SUMMARY:The Comedy Shorts Awards
DESCRIPTION:At the Comedy Shorts Awards we take silly seriously and believe it should be honoured as much as any other genre. \nKatherine’s Marvel ASPCA Sketch will be screened online and is nominated for Best International Film and Best Sketch!
URL:https://katherineisfunny.com/event/the-comedy-shorts-awards/
LOCATION:Online\, NY
ATTACH;FMTTYPE=image/jpeg:https://katherineisfunny.com/wp-content/uploads/2024/01/logo.jpg
END:VEVENT
BEGIN:VEVENT
DTSTART;TZID=America/New_York:20240127T235500
DTEND;TZID=America/New_York:20240128T010000
DTSTAMP:20260420T034246
CREATED:20240111T221536Z
LAST-MODIFIED:20240111T221536Z
UID:1356-1706399700-1706403600@katherineisfunny.com
SUMMARY:The PIT's 24-Hour Sketch Show
DESCRIPTION:From the massive success of Sketchfest\, comes a new PIT program: THE 24-HOUR SKETCH SHOW! \nTHE 24-HOUR SKETCH SHOW aims to challenge and push the limits of what it means to put a show together in a single day.\nEmbrace the midnight hour with a sketch show born from the madness of a group of randomly selected NYC writers and performers. \nProduced by Staff Producer Jason Tyus Smith\nExecutive Produced by Ali Farahnakian
URL:https://katherineisfunny.com/event/the-pits-24-hour-sketch-show/
LOCATION:The PIT Loft\, 154 W 29th St\, New York\, NY\, 10001\, United States
ATTACH;FMTTYPE=image/jpeg:https://katherineisfunny.com/wp-content/uploads/2024/01/24-HOUR-SKETCH-SHOW-400-x-300-px-800-x-450-px_800x450_acf_cropped.jpg
END:VEVENT
BEGIN:VEVENT
DTSTART;TZID=America/New_York:20231210T190000
DTEND;TZID=America/New_York:20231210T200000
DTSTAMP:20260420T034246
CREATED:20230912T192709Z
LAST-MODIFIED:20230912T192709Z
UID:1333-1702234800-1702238400@katherineisfunny.com
SUMMARY:Social Commentary
DESCRIPTION:Katherine has failed her New Year’s Resolution of being less judgmental for three years in a row\, but now you benefit with an hour of sketch comedy holding up a mirror to the human race’s quirks. \nFeaturing Katherine Coleman\, Jack Dominick\, Caroline Hibbert\, Roxie Pell\, and more!
URL:https://katherineisfunny.com/event/social-commentary-4/
LOCATION:The PIT Loft\, 154 W 29th St\, New York\, NY\, 10001\, United States
ATTACH;FMTTYPE=image/png:https://katherineisfunny.com/wp-content/uploads/2023/09/Social-Commentary-NEW-1080-×-1080-px.png
END:VEVENT
BEGIN:VEVENT
DTSTART;TZID=America/New_York:20231203T210000
DTEND;TZID=America/New_York:20231203T220000
DTSTAMP:20260420T034246
CREATED:20231121T210111Z
LAST-MODIFIED:20231121T210111Z
UID:1349-1701637200-1701640800@katherineisfunny.com
SUMMARY:Magnet Theater's Character Night
DESCRIPTION:Character Night is a one hour showcase of original characters\, impressions and bits from some of the most driven\, imaginative\, and funny performers here in NYC.
URL:https://katherineisfunny.com/event/magnet-theaters-character-night/
LOCATION:Magnet Theater\, 254 W 29th St\, New York\, NY\, 10001\, United States
ATTACH;FMTTYPE=image/png:https://katherineisfunny.com/wp-content/uploads/2023/11/Untitled-design.png
END:VEVENT
BEGIN:VEVENT
DTSTART;TZID=America/New_York:20231122T200000
DTEND;TZID=America/New_York:20231122T210000
DTSTAMP:20260420T034246
CREATED:20231010T211359Z
LAST-MODIFIED:20231010T211359Z
UID:1341-1700683200-1700686800@katherineisfunny.com
SUMMARY:The Character Annex
DESCRIPTION:Sloan Brettholtz and Noah Friend host a jam packed line up of the best character actors in NYC! \nThis month’s lineup includes: \nAllison Villaseñor\nChristopher Morucci\nEmily van den Blink\nGabriela Alter\nJacque Nelson\nJeremy Pinson\nKatherine Coleman\nKendall Davis\nMarina di Marzo\nMarissa Moorhead\nPeter Walsh
URL:https://katherineisfunny.com/event/the-character-annex/
LOCATION:The PIT Loft\, 154 W 29th St\, New York\, NY\, 10001\, United States
ATTACH;FMTTYPE=image/jpeg:https://katherineisfunny.com/wp-content/uploads/2023/10/Annex-Nov-Main-Poster-scaled.jpg
END:VEVENT
BEGIN:VEVENT
DTSTART;TZID=America/New_York:20231105T190000
DTEND;TZID=America/New_York:20231105T200000
DTSTAMP:20260420T034246
CREATED:20230912T192648Z
LAST-MODIFIED:20230912T192648Z
UID:1331-1699210800-1699214400@katherineisfunny.com
SUMMARY:Social Commentary
DESCRIPTION:Katherine has failed her New Year’s Resolution of being less judgmental for three years in a row\, but now you benefit with an hour of sketch comedy holding up a mirror to the human race’s quirks. \nFeaturing Katherine Coleman\, Jack Dominick\, Caroline Hibbert\, Roxie Pell\, and more!
URL:https://katherineisfunny.com/event/social-commentary-3/
LOCATION:The PIT Loft\, 154 W 29th St\, New York\, NY\, 10001\, United States
ATTACH;FMTTYPE=image/png:https://katherineisfunny.com/wp-content/uploads/2023/09/Social-Commentary-NEW-1080-×-1080-px.png
END:VEVENT
BEGIN:VEVENT
DTSTART;TZID=America/New_York:20231021T153000
DTEND;TZID=America/New_York:20231021T163000
DTSTAMP:20260420T034246
CREATED:20231016T190534Z
LAST-MODIFIED:20231016T190534Z
UID:1345-1697902200-1697905800@katherineisfunny.com
SUMMARY:NYC Sketchfest: The Digital Hour
DESCRIPTION:A hour of digital sketches from local and national groups\, curated by the PIT featuring Katherine’s sketches “Marvel ASPCA Ad” and “Titanic High.”
URL:https://katherineisfunny.com/event/nyc-sketchfest-the-digital-hour/
LOCATION:The PIT Loft\, 154 W 29th St\, New York\, NY\, 10001\, United States
ATTACH;FMTTYPE=image/png:https://katherineisfunny.com/wp-content/uploads/2023/10/Sketchfest-October-22nd-11-PM-Line-up-1.png
END:VEVENT
BEGIN:VEVENT
DTSTART;TZID=America/New_York:20231015T190000
DTEND;TZID=America/New_York:20231015T200000
DTSTAMP:20260420T034246
CREATED:20230912T192613Z
LAST-MODIFIED:20230912T192613Z
UID:1328-1697396400-1697400000@katherineisfunny.com
SUMMARY:Social Commentary
DESCRIPTION:Katherine has failed her New Year’s Resolution of being less judgmental for three years in a row\, but now you benefit with an hour of sketch comedy holding up a mirror to the human race’s quirks. \nFeaturing Katherine Coleman\, Jack Dominick\, Caroline Hibbert\, Roxie Pell\, and more!
URL:https://katherineisfunny.com/event/social-commentary-2/
LOCATION:The PIT Loft\, 154 W 29th St\, New York\, NY\, 10001\, United States
ATTACH;FMTTYPE=image/png:https://katherineisfunny.com/wp-content/uploads/2023/09/Social-Commentary-NEW-1080-×-1080-px.png
END:VEVENT
BEGIN:VEVENT
DTSTART;TZID=America/New_York:20230927T200000
DTEND;TZID=America/New_York:20230927T210000
DTSTAMP:20260420T034246
CREATED:20230922T201451Z
LAST-MODIFIED:20230922T201451Z
UID:1336-1695844800-1695848400@katherineisfunny.com
SUMMARY:Characters Welcome Digital
DESCRIPTION:Juggernaut comedy festival Just for Laughs presents the best damn character show on the planet! Every Wednesday at 8pm EST\, Eric Feurer\, Sarah Smallwood Parsons\, and Justin Tyler host a rotating stable of guests to bring you a new crop of hilarious original characters and impressions!
URL:https://katherineisfunny.com/event/characters-welcome-digital/
LOCATION:YouTube
ATTACH;FMTTYPE=image/jpeg:https://katherineisfunny.com/wp-content/uploads/2023/09/aa0086_a914747ec0a44489b73ccbfd33a68f53mv2.jpeg
END:VEVENT
BEGIN:VEVENT
DTSTART;TZID=America/New_York:20230917T180000
DTEND;TZID=America/New_York:20230917T193000
DTSTAMP:20260420T034246
CREATED:20230806T034540Z
LAST-MODIFIED:20230806T034540Z
UID:1311-1694973600-1694979000@katherineisfunny.com
SUMMARY:LIT Awards: Best of Season 13 Sketch Night
DESCRIPTION:The Laugh Index Players celebrate a successful season with our annual live show featuring the best of season 13 and the LIT Awards! \nFeaturing Caroline Hibbert\, Misha Kaz\, Charlotte Otremba\, Roxie Pell\, and Nick Phillips \nDirected and Hosted by Katherine Coleman
URL:https://katherineisfunny.com/event/lit-awards-best-of-season-13-sketch-night/
LOCATION:Young Ethel’s\, 506 5th Ave\, Brooklyn\, NY\, 11215\, United States
ATTACH;FMTTYPE=image/png:https://katherineisfunny.com/wp-content/uploads/2023/08/lit-live-2023.png
END:VEVENT
BEGIN:VEVENT
DTSTART;TZID=America/New_York:20230908T190000
DTEND;TZID=America/New_York:20230908T200000
DTSTAMP:20260420T034246
CREATED:20230731T171552Z
LAST-MODIFIED:20230804T202149Z
UID:1296-1694199600-1694203200@katherineisfunny.com
SUMMARY:Wilburn's Half-Hour Laugh Live
DESCRIPTION:Come watch the up and coming sketch group Wilburn perform 30 minutes of comedy that is sure to make you pee your pants with laughter (in the good way!!) We guarantee you’ll leave with one satisfied funny bone! …Did you buy tickets yet?? \nFeaturing: Erica Diederich\, Katherine Coleman\, Tiffany Springle\, Laura Ornella\, Ellen Ko\, Rowena Lair\, Chereese Foster\, Charlotte Otremba and Jake Lewis
URL:https://katherineisfunny.com/event/wilburns-half-hour-laugh-live-2/
LOCATION:Brooklyn Comedy Collective\, 167 Graham Avenue\, Brooklyn\, 11206
ATTACH;FMTTYPE=image/png:https://katherineisfunny.com/wp-content/uploads/2023/07/Half-Hour-Laugh-LIVE.png
END:VEVENT
BEGIN:VEVENT
DTSTART;TZID=America/New_York:20230826T223000
DTEND;TZID=America/New_York:20230826T233000
DTSTAMP:20260420T034246
CREATED:20230804T201944Z
LAST-MODIFIED:20230804T201944Z
UID:1303-1693089000-1693092600@katherineisfunny.com
SUMMARY:Characters\, Characters\, Characters
DESCRIPTION:Characters\, Characters\, Characters is a showcase for The PIT community. \nProduced by The Pit\nHosted and Executive Produced by Ali Farahnakian
URL:https://katherineisfunny.com/event/characters-characters-characters-2/
LOCATION:The PIT Loft\, 154 W 29th St\, New York\, NY\, 10001\, United States
ATTACH;FMTTYPE=image/png:https://katherineisfunny.com/wp-content/uploads/2023/07/Character-Showcase_-8.6-Square-4.png
END:VEVENT
BEGIN:VEVENT
DTSTART;TZID=America/New_York:20230813T190000
DTEND;TZID=America/New_York:20230813T200000
DTSTAMP:20260420T034246
CREATED:20230707T160508Z
LAST-MODIFIED:20230731T171856Z
UID:1266-1691953200-1691956800@katherineisfunny.com
SUMMARY:Funny Fat Friends
DESCRIPTION:Funny Fat Friends is a sketch group made up of some of NYC’s biggest & funniest comedians and performers. Presented by Broadway Bods\, a non-profit putting larger bodied performers front and center. \n\n\n\n 
URL:https://katherineisfunny.com/event/funny-fat-friends/
LOCATION:QED Astoria\, 27-16 23rd Avenue\, Astoria\, NY\, 11105\, United States
ATTACH;FMTTYPE=image/webp:https://katherineisfunny.com/wp-content/uploads/2023/07/BroadwayBodsSquare_grande.webp
END:VEVENT
BEGIN:VEVENT
DTSTART;TZID=America/New_York:20230715T190000
DTEND;TZID=America/New_York:20230715T200000
DTSTAMP:20260420T034246
CREATED:20230707T161112Z
LAST-MODIFIED:20230707T161515Z
UID:1271-1689447600-1689451200@katherineisfunny.com
SUMMARY:Clothes Line
DESCRIPTION:Calling all clothing lovers\, from the argyll sock enthusiasts to the frilly underwear fanatics. This show is a celebration of outfits\, accessories and all things apparel. Come air out your dirty laundry with characters\, sketch\, improv and more for a night that will have you in stitches! \nFeaturing: \n\nRowena Lair\nErica Diederich\nKathleen Cameron\nBrittany Stahl\nKatrina Reese\nUntitled Improv\n\nMust be 21+ to attend. \n  \n*Katherine wrote a sketch for the show\, but will be out of town for the performance. Nonetheless\, go support!
URL:https://katherineisfunny.com/event/clothes-line/
LOCATION:Brooklyn Comedy Collective\, 167 Graham Avenue\, Brooklyn\, 11206
ATTACH;FMTTYPE=image/jpeg:https://katherineisfunny.com/wp-content/uploads/2023/07/ii_ljrmmuwx2.jpg
END:VEVENT
BEGIN:VEVENT
DTSTART;TZID=America/New_York:20230329T200000
DTEND;TZID=America/New_York:20230329T210000
DTSTAMP:20260420T034246
CREATED:20230131T171759Z
LAST-MODIFIED:20230320T150942Z
UID:1244-1680120000-1680123600@katherineisfunny.com
SUMMARY:LIT's Sketch Night
DESCRIPTION:The Laugh Index Theater presents their March Sketch Night directed by Katherine.
URL:https://katherineisfunny.com/event/lits-sketch-night-2/
LOCATION:YouTube
ATTACH;FMTTYPE=image/png:https://katherineisfunny.com/wp-content/uploads/2022/10/LIT_Comedy_Logo-01-e153385135858939.png
END:VEVENT
BEGIN:VEVENT
DTSTART;TZID=America/New_York:20230224T190000
DTEND;TZID=America/New_York:20230224T200000
DTSTAMP:20260420T034246
CREATED:20230122T213345Z
LAST-MODIFIED:20230131T171331Z
UID:1233-1677265200-1677268800@katherineisfunny.com
SUMMARY:SponCon
DESCRIPTION:Sketch shows don’t pay for themselves\, and thanks to the generous support of Tide To-Go Pens\, this show full of branded content is ready to entertain and advertise to you! Come for the ads\, stay for the giveaways! \nFeaturing: Katherine Coleman\, Roxie Pell\, Ngoc Bui\, Eddie Dougrou\, Joe Molinaro\, Laura Ornella\, Eoin Wenger\, and Jason Wildhagen
URL:https://katherineisfunny.com/event/sponcon/
LOCATION:Brooklyn Comedy Collective\, 167 Graham Avenue\, Brooklyn\, 11206
ATTACH;FMTTYPE=image/png:https://katherineisfunny.com/wp-content/uploads/2023/01/sponcon.png
END:VEVENT
BEGIN:VEVENT
DTSTART;TZID=America/New_York:20230222T200000
DTEND;TZID=America/New_York:20230222T210000
DTSTAMP:20260420T034246
CREATED:20230131T171637Z
LAST-MODIFIED:20230131T171637Z
UID:1241-1677096000-1677099600@katherineisfunny.com
SUMMARY:LIT's Lover's Variety Show
DESCRIPTION:Welcome to LIT’s 2023 Valentine’s themed variety show featuring the Laugh Index Players and sketches from our lovely guests! \nThe Laugh Index Players are:  Eugene Chow\, Caroline Hibbert\, Michael Kazmierczak\, Charlotte Otremba\, Roxie Pell\, and Nick Phillips \nDirected by Katherine Coleman
URL:https://katherineisfunny.com/event/lits-lovers-variety-show/
LOCATION:YouTube
ATTACH;FMTTYPE=image/png:https://katherineisfunny.com/wp-content/uploads/2022/10/LIT_Comedy_Logo-01-e153385135858939.png
END:VEVENT
BEGIN:VEVENT
DTSTART;TZID=America/New_York:20230127T190000
DTEND;TZID=America/New_York:20230127T200000
DTSTAMP:20260420T034246
CREATED:20221130T015417Z
LAST-MODIFIED:20221201T020455Z
UID:1205-1674846000-1674849600@katherineisfunny.com
SUMMARY:Wilburn's Half-Hour Laugh Live
DESCRIPTION:Come watch the up and coming group ‘Wilburn’ perform 30 minutes of sketch comedy that is sure to make you pee your pants with laughter (in the good way!!) You’re sure to leave with a satisfied funny bone! …Did you buy tickets yet?? \nFeaturing: Erica Diederich\, Katherine Coleman\, Tiffany Springle\, Laura Ornella\, Ellen Ko\, Rowena Lair\, Chereese Foster\, Ashly Siebels\, Charlotte Otremba and Jake Lewis
URL:https://katherineisfunny.com/event/wilburns-half-hour-laugh-live/
LOCATION:Brooklyn Comedy Collective\, 167 Graham Avenue\, Brooklyn\, 11206
ATTACH;FMTTYPE=image/jpeg:https://katherineisfunny.com/wp-content/uploads/2022/11/HALF-HOUR-LIVE.jpg
END:VEVENT
BEGIN:VEVENT
DTSTART;TZID=America/New_York:20230125T200000
DTEND;TZID=America/New_York:20230125T210000
DTSTAMP:20260420T034246
CREATED:20230116T164832Z
LAST-MODIFIED:20230116T164832Z
UID:1231-1674676800-1674680400@katherineisfunny.com
SUMMARY:LIT's Sketch Night
DESCRIPTION:The Laugh Index Theater presents their January Sketch Night directed by Katherine.
URL:https://katherineisfunny.com/event/lits-sketch-night/
LOCATION:YouTube
ATTACH;FMTTYPE=image/png:https://katherineisfunny.com/wp-content/uploads/2022/10/LIT_Comedy_Logo-01-e153385135858939.png
END:VEVENT
BEGIN:VEVENT
DTSTART;TZID=America/New_York:20221217T223000
DTEND;TZID=America/New_York:20221217T233000
DTSTAMP:20260420T034246
CREATED:20221207T180805Z
LAST-MODIFIED:20221207T180805Z
UID:1215-1671316200-1671319800@katherineisfunny.com
SUMMARY:Characters\, Characters\, Characters
DESCRIPTION:Characters\, Characters\, Characters is a showcase for The PIT community. This month’s show features Ryan Gurian\, Erin Richardson\, Katherine Coleman\, Chloe Schneider\, Caitlin Briody\, Miguel Fernandez\, Christine Piñeiro\, and Kalynn Chambers. \nProduced by The Pit\nHosted and Executive Produced by Ali Farahnakian
URL:https://katherineisfunny.com/event/characters-characters-characters/
LOCATION:The PIT Loft\, 154 W 29th St\, New York\, NY\, 10001\, United States
ATTACH;FMTTYPE=image/png:https://katherineisfunny.com/wp-content/uploads/2022/12/ii_lbavf7310.png
END:VEVENT
BEGIN:VEVENT
DTSTART;TZID=America/New_York:20221215T210000
DTEND;TZID=America/New_York:20221215T220000
DTSTAMP:20260420T034246
CREATED:20221211T214204Z
LAST-MODIFIED:20221211T214204Z
UID:1223-1671138000-1671141600@katherineisfunny.com
SUMMARY:Character? I Hardly Know'Er!
DESCRIPTION:Character? I Hardly Know’er is a monthly character show + jam hosted by comedians Lauren Gamiel (Edinburgh Fringe\, Magnet Sketch) and Julia Schroeder (Magnet Megawatt\, The Parent Trap: Lord of the Twins).
URL:https://katherineisfunny.com/event/character-i-hardly-knower/
LOCATION:QED Astoria\, 27-16 23rd Avenue\, Astoria\, NY\, 11105\, United States
ATTACH;FMTTYPE=image/png:https://katherineisfunny.com/wp-content/uploads/2022/12/Larger_grande.png
END:VEVENT
BEGIN:VEVENT
DTSTART;TZID=America/New_York:20221214T200000
DTEND;TZID=America/New_York:20221214T210000
DTSTAMP:20260420T034246
CREATED:20221114T063116Z
LAST-MODIFIED:20221211T213521Z
UID:1197-1671048000-1671051600@katherineisfunny.com
SUMMARY:A Very LIT Holiday Variety Show
DESCRIPTION:The Laugh Index Theater presents their Holiday Variety Show directed by and featuring Katherine. \n  \n“Ring in the holiday season with the Laugh Index Players plus holiday sketches from special guests. \nThe Laugh Index Players are: \nEugene Chow\, Caroline Hibbert\, Michael Kazmierczak\, Charlotte Otremba\, Roxie Pell\, and Nick Phillips “
URL:https://katherineisfunny.com/event/a-very-lit-holiday-variety-show/
LOCATION:YouTube
ATTACH;FMTTYPE=image/png:https://katherineisfunny.com/wp-content/uploads/2022/11/Dec-show-thumb.png
END:VEVENT
BEGIN:VEVENT
DTSTART;TZID=America/New_York:20221116T200000
DTEND;TZID=America/New_York:20221116T210000
DTSTAMP:20260420T034246
CREATED:20221114T062824Z
LAST-MODIFIED:20221114T062824Z
UID:1193-1668628800-1668632400@katherineisfunny.com
SUMMARY:LIT's Homecoming 2022
DESCRIPTION:The Laugh Index Theater presents their Homecoming Sketch Night directed by Katherine. \n  \n“Welcome to LIT’s 2022 Homecoming show featuring the Laugh Index Players! Enjoy our fully pre-produced sketch show and stick around to see us crown our Season 13 Homecoming Monarchs! \nThe Laugh Index Players are: \nEugene Chow\, Caroline Hibbert\, Michael Kazmierczak\, Charlotte Otremba\, Roxie Pell\, and Nick Phillips “
URL:https://katherineisfunny.com/event/lits-homecoming-2022/
LOCATION:YouTube
ATTACH;FMTTYPE=image/png:https://katherineisfunny.com/wp-content/uploads/2022/11/Nov-show.png
END:VEVENT
BEGIN:VEVENT
DTSTART;TZID=America/New_York:20221110T200000
DTEND;TZID=America/New_York:20221110T210000
DTSTAMP:20260420T034246
CREATED:20220917T014001Z
LAST-MODIFIED:20221012T212651Z
UID:802-1668110400-1668114000@katherineisfunny.com
SUMMARY:Fat Funny Friend
DESCRIPTION:A sketch show made up of plus-size performers\, presented by Broadway Bods.
URL:https://katherineisfunny.com/event/fat-funny-friend/
LOCATION:Good Judy\, 563 5th Ave\, Brooklyn\, NY\, 11215\, United States
ATTACH;FMTTYPE=image/png:https://katherineisfunny.com/wp-content/uploads/2022/09/Screen-Shot-2022-09-16-at-5.34.14-PM-1.png
END:VEVENT
BEGIN:VEVENT
DTSTART;TZID=America/New_York:20221026T200000
DTEND;TZID=America/New_York:20221026T210000
DTSTAMP:20260420T034246
CREATED:20221019T171706Z
LAST-MODIFIED:20221019T171706Z
UID:1100-1666814400-1666818000@katherineisfunny.com
SUMMARY:LIT's A Comedy of Horrors
DESCRIPTION:The Laugh Index Theater presents their Comedy of Horrors Variety Show directed by and featuring Katherine as well as her sketch team\, Wilburn!
URL:https://katherineisfunny.com/event/lits-a-comedy-of-horrors/
LOCATION:YouTube
ATTACH;FMTTYPE=image/png:https://katherineisfunny.com/wp-content/uploads/2022/10/LIT_Comedy_Logo-01-e153385135858939.png
END:VEVENT
BEGIN:VEVENT
DTSTART;TZID=America/New_York:20221017T193000
DTEND;TZID=America/New_York:20221017T203000
DTSTAMP:20260420T034246
CREATED:20220916T041419Z
LAST-MODIFIED:20221017T145852Z
UID:792-1666035000-1666038600@katherineisfunny.com
SUMMARY:Social Commentary / Wilburn's Half Hour Laugh
DESCRIPTION:Katherine has failed her New Year’s Resolution of being less judgmental for three years in a row\, but now you benefit with a half hour of sketch comedy holding up a mirror to the human race’s quirks. \nThis show is in an hour-long slot paired with Katherine’s sketch team\, Wilburn\, performing their Half-Hour Laugh Live! \n  \nYou can join us live Under St. Marks or streaming virtually.
URL:https://katherineisfunny.com/event/social-commentary-wilburns-half-hour-laugh/
LOCATION:Under St. Marks\, 94 St Marks Place\, New York\, NY\, 10009\, United States
ATTACH;FMTTYPE=image/jpeg:https://katherineisfunny.com/wp-content/uploads/2022/09/Oct17-1-scaled.jpg
END:VEVENT
BEGIN:VEVENT
DTSTART;TZID=America/New_York:20221005T210000
DTEND;TZID=America/New_York:20221005T220000
DTSTAMP:20260420T034246
CREATED:20220413T000740Z
LAST-MODIFIED:20221012T212638Z
UID:707-1665003600-1665007200@katherineisfunny.com
SUMMARY:Howdy Neighbor Sketch Show
DESCRIPTION:Katherine’s BoogieManja sketch team\, Howdy Neighbor\, performs a brand new show\, streaming live on Twitch!
URL:https://katherineisfunny.com/event/howdy-neighbor-sketch-show-5/
LOCATION:Twitch
ATTACH;FMTTYPE=image/png:https://katherineisfunny.com/wp-content/uploads/2022/04/Untitled-design.png
END:VEVENT
BEGIN:VEVENT
DTSTART;TZID=America/New_York:20220921T140000
DTEND;TZID=America/New_York:20220921T150000
DTSTAMP:20260420T034246
CREATED:20220818T210011Z
LAST-MODIFIED:20220818T210011Z
UID:778-1663768800-1663772400@katherineisfunny.com
SUMMARY:The LIT Awards: Best of Season 12 Sketch Night
DESCRIPTION:The Laugh Index Players close out their season with a live sketch show in Brooklyn! Directed by Katherine Coleman.
URL:https://katherineisfunny.com/event/the-lit-awards-best-of-season-12-sketch-night/
LOCATION:Young Ethel’s\, 506 5th Ave\, Brooklyn\, NY\, 11215\, United States
ATTACH;FMTTYPE=image/png:https://katherineisfunny.com/wp-content/uploads/2022/08/LiveShow1.png
END:VEVENT
BEGIN:VEVENT
DTSTART;TZID=America/New_York:20220908T160000
DTEND;TZID=America/New_York:20220908T163000
DTSTAMP:20260420T034246
CREATED:20220903T225922Z
LAST-MODIFIED:20220906T040639Z
UID:783-1662652800-1662654600@katherineisfunny.com
SUMMARY:Wilburn's Half-Hour Laugh
DESCRIPTION:Katherine’s indie team\, Wilburn\, streams a brand new sketch show live on YouTube!
URL:https://katherineisfunny.com/event/wilburns-half-hour-laugh/
LOCATION:YouTube
ATTACH;FMTTYPE=image/png:https://katherineisfunny.com/wp-content/uploads/2022/09/9.8thumb.png
END:VEVENT
BEGIN:VEVENT
DTSTART;TZID=America/New_York:20220817T170000
DTEND;TZID=America/New_York:20220817T180000
DTSTAMP:20260420T034246
CREATED:20220413T000718Z
LAST-MODIFIED:20220413T000718Z
UID:705-1660755600-1660759200@katherineisfunny.com
SUMMARY:Howdy Neighbor Sketch Show
DESCRIPTION:Katherine’s BoogieManja sketch team\, Howdy Neighbor\, performs a brand new show\, streaming live on Twitch!
URL:https://katherineisfunny.com/event/howdy-neighbor-sketch-show-4/
LOCATION:Twitch
ATTACH;FMTTYPE=image/png:https://katherineisfunny.com/wp-content/uploads/2022/04/Untitled-design.png
END:VEVENT
END:VCALENDAR